Workbook

Sheet Group Heuristic Evaluation
A1: Prototype Description: | B1: LOCKIN is an app that combines social and monetary incentives to limit screen time through competing with and staking money against other people.
A4: Simple Task | B4: Join a Pre-Set competition with your login
A5: Moderate Task | B5: Post your daliy stats to the competition feed and compare analystics with friends
A6: Complex Task | B6: Make a custom competition; defining your preferred goals, stakes, and members; sharing invitations to the competition
E9: *attach images here if helpful
A10: Problem # | B10: Heuristic | C10: Task | D10: Severity | E10: Description | F10: Rationale | G10: Fix | H10: Found by
A11: =ROW() - 10 -> 1 | B11: H1: Visibility of System Status | C11: 3. Complex Task | D11: 2 | E11: When i am customizing my competition and selecting goals and durations there is no indication that i have succesfully selected that component after i press it i understand this is probably one of the buttons you didn't implement yet though | F11: users will have to remember themselves what they set/if they set anything in the first place | G11: highlight the selected element of the custom competition they are creating, could even be this gray color that shows up when you hover over it in figma | H11: B, A, C, D
A12: =ROW() - 10 -> 2 | B12: H4: Consistency & Standards | C12: 3. Complex Task | D12: 3 | E12: the back button in the second screen after I select harper as invited to my competition goes back to the screen before, this "uninvites" harper instead of going back to the previous customizing screen like I would think that back button would do | F12: now back button in the corner has two meaning to the user, the first is going back to the prev page but here it means undoing an invite. | G12: I'm sure this was just a wonky figma implementation, but I would recommend just making invite button toggle betwee invite anf univite and make sure the back button links to the prev customization page | H12: B, D
A13: =ROW() - 10 -> 3 | B13: H7: Flexibility & Efficiency of Use | C13: 2. Moderate Task | D13: 1 | E13: I got confused what left: 3/4 meant on the top of the leaderboard | F13: user is not immediately familiar with what that might refer to | G13: either add "players left" or maybe leave the label as is and change it to 3 out of 4 on both screens that would be clearer than just a fraction which means the same but just takes extra brain power to immediately connect it | H13: C, D, A
A14: =ROW() - 10 -> 4 | B14: H4: Consistency & Standards | C14: 5. Extra Violations | D14: 2 | E14: want to know the daily average screen time spent on my most used apps along with tik tok and messages in my analytics | F14: users can understand how their daily averages can compare on high use apps versus other apps | G14: add in average daily use metric above the graph for messages | H14: D
A15: =ROW() - 10 -> 5 | B15: H4: Consistency & Standards | C15: 5. Extra Violations | D15: 2 | E15: want to know average daily screen time usage across phone in general in the analytics portion | F15: I think that's a really digestible and translatable metric for users | G15: add in average daily phone use metric above the graph for this week | H15: D
A16: =ROW() - 10 -> 6 | B16: H3: User Control & Freedom | C16: 1. Simple Task | D16: 3 | E16: the back button has unpredictable behavior does the back button here make you drop out of the competition or just takes you back to the previous page unclear | F16: unclear what this action might do for their competition status | G16: add a specific dropout button or don't have a back button, cause the one-liner says "drop screentime or lose your $15" maybe the back button links back to the full competition page instead | H16: A, B, D
A17: =ROW() - 10 -> 7 | B17: H5: Error Prevention | C17: 1. Simple Task | D17: 3 | E17: I would make it more explicit to the user that once they press the join for $15 button that they will not be able to get their money back or if you are letting users get money back make it clear that pressing join will still allow them to refund their money if they drop out | F17: want to prevent users from joining competitions paying money without realizing they won't get their money back and have no way of fixing that error. | G17: succinct warning description above the join for $15 button that explicitly explains the situtation | H17: A, B, D
A18: =ROW() - 10 -> 8 | B18: H1: Visibility of System Status | C18: 1. Simple Task | D18: 0 | E18: It should be more obvious to me that this is the page I'm seeing because i've succesfully joined the competition | F18: need to give the user information in a logical and relevant order | G18: I like the phrases used here but maybe it's as simple as switching the title and subtitle here for clarity, gets the correct information across to the user faster | H18: B, D
A19: =ROW() - 10 -> 9 | B19: H7: Flexibility & Efficiency of Use | C19: 2. Moderate Task | D19: 0 | E19: could have this be screentime spent for more clarity and more efficient recognition for the users | F19: user shouldnt have to wonder what time spent should be referring too | G19: add screentime instead of time spent | H19: D
A20: =ROW() - 10 -> 10 | B20: H2: Match b/w System & World | C20: 2. Moderate Task | D20: 1 | E20: be careful using green and red here to indicate if you're higher lower here, we talked about green and red meaning different things cross culturally in design | F20: the data visualization should match the users language and real world conventions, which with color could vary | G20: maybe pick diff colors, i think there's an alternate suggestion the lecture slides | H20: D, C
A21: =ROW() - 10 -> 11 | B21: H7: Flexibility & Efficiency of Use | C21: 2. Moderate Task | D21: 1 | E21: 0:47 out of what, what's the end bound for this scale. is it measuring per day (out of 3 hours) or out of the 4 days total (out of 12 hours) when you go to compare it compares results from today only so maybe it should reflect that it is 0;47 min out of 3 hours | F21: make these analytics more interpretable right off the bat without making users think too hard increasing efficiency on the app | G21: maybe its simple and just add out of 12 hours or maybe you can click off into another screen that shows the layout per day | H21: D, C, A
A22: =ROW() - 10 -> 12 | B22: H7: Flexibility & Efficiency of Use | C22: 5. Extra Violations | D22: 2 | E22: when you scroll through analytics to me these should be two different sections: general analytics and then breakdown per app. these should be labeled as such so when you scrolling through you know what you're looking at | F22: keep users moving through these statistics quickly by labeling sections correclty | G22: add a subtitle/header here that breaks up this a bit more from the general analytics to specific app breakdown | H22: D
... A36: =ROW() - 10 -> 26 | B36: H5: Error Prevention | C36: 2. Moderate Task | D36: 2 | E36: The "compete" tab does not allow to compete, in fact, there is basically no competition of stats on that screen, it is all user progress in a specific competition | F36: User might go in expecting comparison but find none. | G36: Change the tab name in the Nav-bar to something like "progress" | H36: C
A37: =ROW() - 8 -> 29 | B37: H6: Recognition not Recall | C37: 2. Moderate Task | D37: 3 | E37: Users must remember previous standings when checking the competition feed | F37: Past performance is not displayed, and therefore may be hard to remember | G37: Display historical standings to reduce the need for users to remember more | H37: B
A38: =ROW() - 10 -> 28 | B38: H8: Aesthetic & Minimalist Design | C38: 1. Simple Task | D38: 1 | E38: Too much white empty space on the screen + the code entry bar is too small. | F38: Less comfort of use. | G38: Make the bar bigger and possibly center components vertically | H38: C
A39: =ROW() - 10 -> 29 | B39: H3: User Control & Freedom | C39: 1. Simple Task | D39: 2 | E39: Back button does not work on Compete Screen when viewing friends competition from Home screen, only way to return back to home screen is to click on Profile and Compete then Click on Home again | F39: Can't go back to Home from Friend Competition screen is really frustrating, if I don't want to do a specific friends competiton, I need an easy way to go back to Home | G39: Make back button work, Home button on bottom dashboard should bring you back to main home screen | H39: A

Sheet Summary of Evaluations
A1: Heuristic | B1: # Viol. (sev 0) | C1: # Viol. (sev 1) | D1: # Viol. (sev 2) | E1: # Viol. (sev 3) | F1: # Viol. (sev 4) | G1: # Viol. (total)
A2: H1: Visibility of System Status | B2: =COUNTIFS('Group Heuristic Evaluation'!B:B, "H1: Visibility of System Status", 'Group Heuristic Evaluation'!D:D, 0) -> 1 | C2: =COUNTIFS('Group Heuristic Evaluation'!B:B, "H1: Visibility of System Status", 'Group Heuristic Evaluation'!D:D, 1) -> 0 | D2: =COUNTIFS('Group Heuristic Evaluation'!B:B, "H1: Visibility of System Status", 'Group Heuristic Evaluation'!D:D, 2) -> 1 | E2: =COUNTIFS('Group Heuristic Evaluation'!B:B, "H1: Visibility of System Status", 'Group Heuristic Evaluation'!D:D, 3) -> 0 | F2: =COUNTIFS('Group Heuristic Evaluation'!B:B, "H1: Visibility of System Status", 'Group Heuristic Evaluation'!D:D, 4) -> 1 | G2: =SUM(B2:F2) -> 3
A3: H2: Match b/w System & World | B3: =COUNTIFS('Group Heuristic Evaluation'!B:B, "H2: Match b/w System & World", 'Group Heuristic Evaluation'!D:D, 0) -> 1 | C3: =COUNTIFS('Group Heuristic Evaluation'!B:B, "H2: Match b/w System & World", 'Group Heuristic Evaluation'!D:D, 1) -> 1 | D3: =COUNTIFS('Group Heuristic Evaluation'!B:B, "H2: Match b/w System & World", 'Group Heuristic Evaluation'!D:D, 2) -> 0 | E3: =COUNTIFS('Group Heuristic Evaluation'!B:B, "H2: Match b/w System & World", 'Group Heuristic Evaluation'!D:D, 3) -> 0 | F3: =COUNTIFS('Group Heuristic Evaluation'!B:B, "H2: Match b/w System & World", 'Group Heuristic Evaluation'!D:D, 4) -> 0 | G3: =SUM(B3:F3) -> 2
A4: H3: User Control & Freedom | B4: =COUNTIFS('Group Heuristic Evaluation'!B:B, "H3: User Control & Freedom", 'Group Heuristic Evaluation'!D:D, 0) -> 0 | C4: =COUNTIFS('Group Heuristic Evaluation'!B:B, "H3: User Control & Freedom", 'Group Heuristic Evaluation'!D:D, 1) -> 0 | D4: =COUNTIFS('Group Heuristic Evaluation'!B:B, "H3: User Control & Freedom", 'Group Heuristic Evaluation'!D:D, 2) -> 1 | E4: =COUNTIFS('Group Heuristic Evaluation'!B:B, "H3: User Control & Freedom", 'Group Heuristic Evaluation'!D:D, 3) -> 1 | F4: =COUNTIFS('Group Heuristic Evaluation'!B:B, "H3: User Control & Freedom", 'Group Heuristic Evaluation'!D:D, 4) -> 1 | G4: =SUM(B4:F4) -> 3
A5: H4: Consistency & Standards | B5: =COUNTIFS('Group Heuristic Evaluation'!B:B, "H4: Consistency & Standards", 'Group Heuristic Evaluation'!D:D, 0) -> 0 | C5: =COUNTIFS('Group Heuristic Evaluation'!B:B, "H4: Consistency & Standards", 'Group Heuristic Evaluation'!D:D, 1) -> 0 | D5: =COUNTIFS('Group Heuristic Evaluation'!B:B, "H4: Consistency & Standards", 'Group Heuristic Evaluation'!D:D, 2) -> 3 | E5: =COUNTIFS('Group Heuristic Evaluation'!B:B, "H4: Consistency & Standards", 'Group Heuristic Evaluation'!D:D, 3) -> 1 | F5: =COUNTIFS('Group Heuristic Evaluation'!B:B, "H4: Consistency & Standards", 'Group Heuristic Evaluation'!D:D, 4) -> 0 | G5: =SUM(B5:F5) -> 4
A6: H5: Error Prevention | B6: =COUNTIFS('Group Heuristic Evaluation'!B:B, "H5: Error Prevention", 'Group Heuristic Evaluation'!D:D, 0) -> 0 | C6: =COUNTIFS('Group Heuristic Evaluation'!B:B, "H5: Error Prevention", 'Group Heuristic Evaluation'!D:D, 1) -> 0 | D6: =COUNTIFS('Group Heuristic Evaluation'!B:B, "H5: Error Prevention", 'Group Heuristic Evaluation'!D:D, 2) -> 1 | E6: =COUNTIFS('Group Heuristic Evaluation'!B:B, "H5: Error Prevention", 'Group Heuristic Evaluation'!D:D, 3) -> 1 | F6: =COUNTIFS('Group Heuristic Evaluation'!B:B, "H5: Error Prevention", 'Group Heuristic Evaluation'!D:D, 4) -> 0 | G6: =SUM(C6:F6) -> 2
A7: H6: Recognition not Recall | B7: =COUNTIFS('Group Heuristic Evaluation'!B:B, "H6: Recognition not Recall", 'Group Heuristic Evaluation'!D:D, 0) -> 0 | C7: =COUNTIFS('Group Heuristic Evaluation'!B:B, "H6: Recognition not Recall", 'Group Heuristic Evaluation'!D:D, 1) -> 0 | D7: =COUNTIFS('Group Heuristic Evaluation'!B:B, "H6: Recognition not Recall", 'Group Heuristic Evaluation'!D:D, 2) -> 1 | E7: =COUNTIFS('Group Heuristic Evaluation'!B:B, "H6: Recognition not Recall", 'Group Heuristic Evaluation'!D:D, 3) -> 1 | F7: =COUNTIFS('Group Heuristic Evaluation'!B:B, "H6: Recognition not Recall", 'Group Heuristic Evaluation'!D:D, 4) -> 0 | G7: =SUM(B7:F7) -> 2
A8: H7: Flexibility & Efficiency of Use | B8: =COUNTIFS('Group Heuristic Evaluation'!B:B, "H7: Flexibility & Efficiency of Use", 'Group Heuristic Evaluation'!D:D, 0) -> 1 | C8: =COUNTIFS('Group Heuristic Evaluation'!B:B, "H7: Flexibility & Efficiency of Use", 'Group Heuristic Evaluation'!D:D, 1) -> 2 | D8: =COUNTIFS('Group Heuristic Evaluation'!B:B, "H7: Flexibility & Efficiency of Use", 'Group Heuristic Evaluation'!D:D, 2) -> 1 | E8: =COUNTIFS('Group Heuristic Evaluation'!B:B, "H7: Flexibility & Efficiency of Use", 'Group Heuristic Evaluation'!D:D, 3) -> 0 | F8: =COUNTIFS('Group Heuristic Evaluation'!B:B, "H7: Flexibility & Efficiency of Use", 'Group Heuristic Evaluation'!D:D, 4) -> 0 | G8: =SUM(B8:F8) -> 4
A9: H8: Aesthetic & Minimalist Design | B9: =COUNTIFS('Group Heuristic Evaluation'!B:B, "H8: Aesthetic & Minimalist Design", 'Group Heuristic Evaluation'!D:D, 0) -> 0 | C9: =COUNTIFS('Group Heuristic Evaluation'!B:B, "H8: Aesthetic & Minimalist Design", 'Group Heuristic Evaluation'!D:D, 1) -> 2 | D9: =COUNTIFS('Group Heuristic Evaluation'!B:B, "H8: Aesthetic & Minimalist Design", 'Group Heuristic Evaluation'!D:D, 2) -> 0 | E9: =COUNTIFS('Group Heuristic Evaluation'!B:B, "H8: Aesthetic & Minimalist Design", 'Group Heuristic Evaluation'!D:D, 3) -> 0 | F9: =COUNTIFS('Group Heuristic Evaluation'!B:B, "H8: Aesthetic & Minimalist Design", 'Group Heuristic Evaluation'!D:D, 4) -> 0 | G9: =SUM(B9:F9) -> 2
A10: H9: Help Users with Errors | B10: =COUNTIFS('Group Heuristic Evaluation'!B:B, "H9: Help Users with Errors", 'Group Heuristic Evaluation'!D:D, 0) -> 1 | C10: =COUNTIFS('Group Heuristic Evaluation'!B:B, "H9: Help Users with Errors", 'Group Heuristic Evaluation'!D:D, 1) -> 0 | D10: =COUNTIFS('Group Heuristic Evaluation'!B:B, "H9: Help Users with Errors", 'Group Heuristic Evaluation'!D:D, 2) -> 0 | E10: =COUNTIFS('Group Heuristic Evaluation'!B:B, "H9: Help Users with Errors", 'Group Heuristic Evaluation'!D:D, 3) -> 0 | F10: =COUNTIFS('Group Heuristic Evaluation'!B:B, "H9: Help Users with Errors", 'Group Heuristic Evaluation'!D:D, 4) -> 0 | G10: =SUM(B10:F10) -> 1
A11: H10: Help & Documentation | B11: =COUNTIFS('Group Heuristic Evaluation'!B:B, "H10: Help & Documentation", 'Group Heuristic Evaluation'!D:D, 0) -> 1 | C11: =COUNTIFS('Group Heuristic Evaluation'!B:B, "H10: Help & Documentation", 'Group Heuristic Evaluation'!D:D, 1) -> 0 | D11: =COUNTIFS('Group Heuristic Evaluation'!B:B, "H10: Help & Documentation", 'Group Heuristic Evaluation'!D:D, 2) -> 0 | E11: =COUNTIFS('Group Heuristic Evaluation'!B:B, "H10: Help & Documentation", 'Group Heuristic Evaluation'!D:D, 3) -> 1 | F11: =COUNTIFS('Group Heuristic Evaluation'!B:B, "H10: Help & Documentation", 'Group Heuristic Evaluation'!D:D, 4) -> 0 | G11: =SUM(B11:F11) -> 2
A12: H11: Accessible Design | B12: =COUNTIFS('Group Heuristic Evaluation'!B:B, "H11: Accessible Design", 'Group Heuristic Evaluation'!D:D, 0) -> 0 | C12: =COUNTIFS('Group Heuristic Evaluation'!B:B, "H11: Accessible Design", 'Group Heuristic Evaluation'!D:D, 1) -> 2 | D12: =COUNTIFS('Group Heuristic Evaluation'!B:B, "H11: Accessible Design", 'Group Heuristic Evaluation'!D:D, 2) -> 0 | E12: =COUNTIFS('Group Heuristic Evaluation'!B:B, "H11: Accessible Design", 'Group Heuristic Evaluation'!D:D, 3) -> 0 | F12: =COUNTIFS('Group Heuristic Evaluation'!B:B, "H11: Accessible Design", 'Group Heuristic Evaluation'!D:D, 4) -> 0 | G12: =SUM(B12:F12) -> 2
A13: H12. ​​Value Alignment & Inclusion | B13: =COUNTIFS('Group Heuristic Evaluation'!B:B, "H12: Value Alignment & Inclusion", 'Group Heuristic Evaluation'!D:D, 0) -> 1 | C13: =COUNTIFS('Group Heuristic Evaluation'!B:B, "H12: Value Alignment & Inclusion", 'Group Heuristic Evaluation'!D:D, 1) -> 0 | D13: =COUNTIFS('Group Heuristic Evaluation'!B:B, "H12: Value Alignment & Inclusion", 'Group Heuristic Evaluation'!D:D, 2) -> 0 | E13: =COUNTIFS('Group Heuristic Evaluation'!B:B, "H12: Value Alignment & Inclusion", 'Group Heuristic Evaluation'!D:D, 3) -> 1 | F13: =COUNTIFS('Group Heuristic Evaluation'!B:B, "H12: Value Alignment & Inclusion", 'Group Heuristic Evaluation'!D:D, 4) -> 0 | G13: =SUM(B13:F13) -> 2
A14: Total Violations | B14: =SUM(B2:B13) -> 6 | C14: =SUM(C1:C13) -> 7 | D14: =SUM(D1:D13) -> 8 | E14: =SUM(E2:E13) -> 6 | F14: =SUM(F2:F13) -> 2 | G14: =SUM(G2:G13) -> 29

Sheet Evaluation Statistics
A1: * for this to calculate properly, delete any unused rows from your 'Group Heuristic Evaluation' chart!
A2: Severity | B2: Evaluator A | C2: Evaluator B | D2: Evaluator C | E2: Evaluator D
A3: 0 | B3: =COUNTIFS('Group Heuristic Evaluation'!H:H, "*A*",'Group Heuristic Evaluation'!D:D, 0)/COUNTA('Group Heuristic Evaluation'!B10:B100) -> 0.033333333 | C3: =COUNTIFS('Group Heuristic Evaluation'!H:H, "*B*",'Group Heuristic Evaluation'!D:D, 0)/COUNTA('Group Heuristic Evaluation'!B10:B100) -> 0.13333333 | D3: =COUNTIFS('Group Heuristic Evaluation'!H:H, "*C*",'Group Heuristic Evaluation'!D:D, 0)/COUNTA('Group Heuristic Evaluation'!B10:B100) -> 0.066666667 | E3: =COUNTIFS('Group Heuristic Evaluation'!H:H, "*D*",'Group Heuristic Evaluation'!D:D, 0)/COUNTA('Group Heuristic Evaluation'!B10:B100) -> 0.2
A4: 1 | B4: =COUNTIFS('Group Heuristic Evaluation'!H:H, "*A*",'Group Heuristic Evaluation'!D:D, 1)/COUNTA('Group Heuristic Evaluation'!B10:B100) -> 0.1 | C4: =COUNTIFS('Group Heuristic Evaluation'!H:H, "*B*",'Group Heuristic Evaluation'!D:D, 1)/COUNTA('Group Heuristic Evaluation'!B10:B100) -> 0.1 | D4: =COUNTIFS('Group Heuristic Evaluation'!H:H, "*C*",'Group Heuristic Evaluation'!D:D, 1)/COUNTA('Group Heuristic Evaluation'!B10:B100) -> 0.2 | E4: =COUNTIFS('Group Heuristic Evaluation'!H:H, "*D*",'Group Heuristic Evaluation'!D:D, 1)/COUNTA('Group Heuristic Evaluation'!B10:B100) -> 0.16666667
A5: 2 | B5: =COUNTIFS('Group Heuristic Evaluation'!H:H, "*A*",'Group Heuristic Evaluation'!D:D, 2)/COUNTA('Group Heuristic Evaluation'!B10:B100) -> 0.13333333 | C5: =COUNTIFS('Group Heuristic Evaluation'!H:H, "*B*",'Group Heuristic Evaluation'!D:D, 2)/COUNTA('Group Heuristic Evaluation'!B10:B100) -> 0.066666667 | D5: =COUNTIFS('Group Heuristic Evaluation'!H:H, "*C*",'Group Heuristic Evaluation'!D:D, 2)/COUNTA('Group Heuristic Evaluation'!B10:B100) -> 0.066666667 | E5: =COUNTIFS('Group Heuristic Evaluation'!H:H, "*D*",'Group Heuristic Evaluation'!D:D, 2)/COUNTA('Group Heuristic Evaluation'!B10:B100) -> 0.16666667
A6: 3 | B6: =COUNTIFS('Group Heuristic Evaluation'!H:H, "*A*",'Group Heuristic Evaluation'!D:D, 3)/COUNTA('Group Heuristic Evaluation'!B10:B100) -> 0.13333333 | C6: =COUNTIFS('Group Heuristic Evaluation'!H:H, "*B*",'Group Heuristic Evaluation'!D:D, 3)/COUNTA('Group Heuristic Evaluation'!B10:B100) -> 0.13333333 | D6: =COUNTIFS('Group Heuristic Evaluation'!H:H, "*C*",'Group Heuristic Evaluation'!D:D, 3)/COUNTA('Group Heuristic Evaluation'!B10:B100) -> 0 | E6: =COUNTIFS('Group Heuristic Evaluation'!H:H, "*D*",'Group Heuristic Evaluation'!D:D, 3)/COUNTA('Group Heuristic Evaluation'!B10:B100) -> 0.1
A7: 4 | B7: =COUNTIFS('Group Heuristic Evaluation'!H:H, "*A*",'Group Heuristic Evaluation'!D:D, 4)/COUNTA('Group Heuristic Evaluation'!B10:B100) -> 0.033333333 | C7: =COUNTIFS('Group Heuristic Evaluation'!H:H, "*B*",'Group Heuristic Evaluation'!D:D, 4)/COUNTA('Group Heuristic Evaluation'!B10:B100) -> 0.033333333 | D7: =COUNTIFS('Group Heuristic Evaluation'!H:H, "*C*",'Group Heuristic Evaluation'!D:D, 4)/COUNTA('Group Heuristic Evaluation'!B10:B100) -> 0.033333333 | E7: =COUNTIFS('Group Heuristic Evaluation'!H:H, "*D*",'Group Heuristic Evaluation'!D:D, 4)/COUNTA('Group Heuristic Evaluation'!B10:B100) -> 0.033333333
A8: Total (sevs. 3 & 4) | B8: =SUM(B6:B7) -> 0.16666667 | C8: =SUM(C6:C7) -> 0.16666667 | D8: =SUM(D6:D7) -> 0.033333333 | E8: =SUM(E6:E7) -> 0.13333333
A9: Total (all sevs) | B9: =SUM(B3:B7) -> 0.43333333 | C9: =SUM(C3:C7) -> 0.46666667 | D9: =SUM(D3:D7) -> 0.36666667 | E9: =SUM(E3:E7) -> 0.66666667

Sheet Summary Recommendations
A1: Summary Recommendations [merge the general recommendations you made here]
A2: The LockIn medium-fidelity prototype demonstrates a commendable approach to supporting users’ goal of reducing screen time through a simple, efficient UI that minimizes feature overload. The streamlined design aligns well with the app's purpose; however, several key improvements could enhance user experience and accessibility. Primarily, the prototype could benefit from clearer labeling in the analytics and competition dashboards, helping users understand metrics without unnecessary effort or brain power. Additionally, it’s essential to ensure back buttons are fully functional and direct users intuitively through the app, as missing or confusing navigation can frustrate users and reduce engagement. Another suggestion includes tracking payouts, money won, and credits within the profile, adding depth to the user experience. The prototype should also prioritize consistency and accessibility. Unlabeled elements, inconsistent color cues (such as the use of red in progress bars without clear meaning), and excessive whitespace disrupt usability and make navigation less intuitive. Enhancing clarity through consistent terminology, adding loading indicators, and revising elements certain terminology could build user confidence and reduce friction. For added inclusivity and to prevent unintended associations with gambling, the app should have a terms and conditions sign form, with a warning screen before the player even gets to the first part of the home screen. Needs constant reminders to let the player know that betting money excessively is not good. Perchance should include the gambling hotline, set limitations on losses, and track incremental progress. Ultimately, focusing on clarity, consistency, and inclusivity will create a polished, user-friendly interface that better supports users in achieving their screen-time goals with confidence and satisfaction.
